BEGIN:VCALENDAR
VERSION:2.0
PRODID:-//Udo Huber - ECPv6.15.20//NONSGML v1.0//EN
CALSCALE:GREGORIAN
METHOD:PUBLISH
X-ORIGINAL-URL:https://udohuber.at
X-WR-CALDESC:Veranstaltungen für Udo Huber
REFRESH-INTERVAL;VALUE=DURATION:PT1H
X-Robots-Tag:noindex
X-PUBLISHED-TTL:PT1H
BEGIN:VTIMEZONE
TZID:Europe/Vienna
BEGIN:DAYLIGHT
TZOFFSETFROM:+0100
TZOFFSETTO:+0200
TZNAME:CEST
DTSTART:20250330T010000
END:DAYLIGHT
BEGIN:STANDARD
TZOFFSETFROM:+0200
TZOFFSETTO:+0100
TZNAME:CET
DTSTART:20251026T010000
END:STANDARD
BEGIN:DAYLIGHT
TZOFFSETFROM:+0100
TZOFFSETTO:+0200
TZNAME:CEST
DTSTART:20260329T010000
END:DAYLIGHT
BEGIN:STANDARD
TZOFFSETFROM:+0200
TZOFFSETTO:+0100
TZNAME:CET
DTSTART:20261025T010000
END:STANDARD
BEGIN:DAYLIGHT
TZOFFSETFROM:+0100
TZOFFSETTO:+0200
TZNAME:CEST
DTSTART:20270328T010000
END:DAYLIGHT
BEGIN:STANDARD
TZOFFSETFROM:+0200
TZOFFSETTO:+0100
TZNAME:CET
DTSTART:20271031T010000
END:STANDARD
END:VTIMEZONE
BEGIN:VEVENT
DTSTART;TZID=Europe/Vienna:20260521T180000
DTEND;TZID=Europe/Vienna:20260521T220000
DTSTAMP:20260421T121359
CREATED:20260325T070033Z
LAST-MODIFIED:20260325T075657Z
UID:3587-1779386400-1779400800@udohuber.at
SUMMARY:REC & PLAY - Comedyprogramm
DESCRIPTION:Wir haben die 80er erlebt und können uns daran erinnern \nDie 80er – ein Jahrzehnt\, das uns unvergessliche Musik\, knallbunte Mode \nDie 80er – ein Jahrzehnt\, das uns unvergessliche Musik\, knallbunte Mode und Frisuren beschert hat\, die an Architekturprojekte erinnern. \nUnd mittendrin die unvergessliche Stimme von Udo Huber\, dem Mr. Hitparade höchstpersönlich. \nWährend er die Nation mit den neuesten Chart-Hits versorgte\, saß irgendwo in einem Kinderzimmer ein junger Markus Hauptmann\, bewaffnet mit einem Stereokassettenrecorder und dem Traum\, das perfekte Mixtape zu erstellen – bis Huber mal wieder mitten in den Refrain reingequatscht hat. \n40 Jahre später hat das Schicksal zugeschlagen: Mr. Hitparade und der Mixtape-Gepeinigte schließen Frieden – und sich zusammen! Gemeinsam bringen sie in ihrem Comedyprogramm die knallbunten 80er zurück auf die Bühne. Mit im Gepäck: jede Menge Erinnerungen\, absurde Geschichten und die Frage\, wie man damals ohne Handy und Streaming-Dienste überhaupt überlebt hat. Und wer hat eigentlich J.R. erschossen?
URL:https://udohuber.at/event/rec-play-comedyprogramm-18/
LOCATION:dachbodenTheater 2.0\, Roseggerstraße 18\, Bruck an der Mur\, Steiermark\, 8600\, Austria
CATEGORIES:Comedy
ATTACH;FMTTYPE=image/jpeg:https://udohuber.at/wp-content/uploads/2025/09/udohuber_frueherwarallesbesser_02.jpg
ORGANIZER;CN="dachbodenTheater 2.0":MAILTO:office@dachbodentheater.at
END:VEVENT
BEGIN:VEVENT
DTSTART;TZID=Europe/Vienna:20260523T180000
DTEND;TZID=Europe/Vienna:20260523T220000
DTSTAMP:20260421T121359
CREATED:20260325T070003Z
LAST-MODIFIED:20260325T074243Z
UID:3588-1779559200-1779573600@udohuber.at
SUMMARY:REC & PLAY - Comedyprogramm
DESCRIPTION:Wir haben die 80er erlebt und können uns daran erinnern \nDie 80er – ein Jahrzehnt\, das uns unvergessliche Musik\, knallbunte Mode \nDie 80er – ein Jahrzehnt\, das uns unvergessliche Musik\, knallbunte Mode und Frisuren beschert hat\, die an Architekturprojekte erinnern. \nUnd mittendrin die unvergessliche Stimme von Udo Huber\, dem Mr. Hitparade höchstpersönlich. \nWährend er die Nation mit den neuesten Chart-Hits versorgte\, saß irgendwo in einem Kinderzimmer ein junger Markus Hauptmann\, bewaffnet mit einem Stereokassettenrecorder und dem Traum\, das perfekte Mixtape zu erstellen – bis Huber mal wieder mitten in den Refrain reingequatscht hat. \n40 Jahre später hat das Schicksal zugeschlagen: Mr. Hitparade und der Mixtape-Gepeinigte schließen Frieden – und sich zusammen! Gemeinsam bringen sie in ihrem Comedyprogramm die knallbunten 80er zurück auf die Bühne. Mit im Gepäck: jede Menge Erinnerungen\, absurde Geschichten und die Frage\, wie man damals ohne Handy und Streaming-Dienste überhaupt überlebt hat. Und wer hat eigentlich J.R. erschossen?
URL:https://udohuber.at/event/rec-play-comedyprogramm-17/
LOCATION:Gemeindesaal Bocksdorf\, Herrengasse 11\, Bocksdorf\, Burgenland\, 7553\, Austria
CATEGORIES:Comedy
ATTACH;FMTTYPE=image/jpeg:https://udohuber.at/wp-content/uploads/2025/09/udohuber_frueherwarallesbesser_02.jpg
ORGANIZER;CN="Gemeindesaal Bocksdorf":MAILTO:post@bocksdorf.bgld.gv.at
END:VEVENT
BEGIN:VEVENT
DTSTART;TZID=Europe/Vienna:20260530T180000
DTEND;TZID=Europe/Vienna:20260530T220000
DTSTAMP:20260421T121359
CREATED:20260325T070011Z
LAST-MODIFIED:20260325T075725Z
UID:3510-1780164000-1780178400@udohuber.at
SUMMARY:REC & PLAY - Comedyprogramm
DESCRIPTION:Wir haben die 80er erlebt und können uns daran erinnern \nDie 80er – ein Jahrzehnt\, das uns unvergessliche Musik\, knallbunte Mode \nDie 80er – ein Jahrzehnt\, das uns unvergessliche Musik\, knallbunte Mode und Frisuren beschert hat\, die an Architekturprojekte erinnern. \nUnd mittendrin die unvergessliche Stimme von Udo Huber\, dem Mr. Hitparade höchstpersönlich. \nWährend er die Nation mit den neuesten Chart-Hits versorgte\, saß irgendwo in einem Kinderzimmer ein junger Markus Hauptmann\, bewaffnet mit einem Stereokassettenrecorder und dem Traum\, das perfekte Mixtape zu erstellen – bis Huber mal wieder mitten in den Refrain reingequatscht hat. \n40 Jahre später hat das Schicksal zugeschlagen: Mr. Hitparade und der Mixtape-Gepeinigte schließen Frieden – und sich zusammen! Gemeinsam bringen sie in ihrem Comedyprogramm die knallbunten 80er zurück auf die Bühne. Mit im Gepäck: jede Menge Erinnerungen\, absurde Geschichten und die Frage\, wie man damals ohne Handy und Streaming-Dienste überhaupt überlebt hat. Und wer hat eigentlich J.R. erschossen?
URL:https://udohuber.at/event/rec-play-comedyprogramm-2/
LOCATION:Theater 82er Haus\, Linzerstraße 82\, 3003 Gablitz\, Gablitz\, Niederösterreich\, 3003\, Austria
CATEGORIES:Comedy
ATTACH;FMTTYPE=image/jpeg:https://udohuber.at/wp-content/uploads/2025/09/udohuber_frueherwarallesbesser_02.jpg
ORGANIZER;CN="Theater 82er Haus":MAILTO:office@theater82erhaus.at
END:VEVENT
BEGIN:VEVENT
DTSTART;TZID=Europe/Vienna:20260531T180000
DTEND;TZID=Europe/Vienna:20260531T220000
DTSTAMP:20260421T121359
CREATED:20260325T072236Z
LAST-MODIFIED:20260325T075808Z
UID:3597-1780250400-1780264800@udohuber.at
SUMMARY:REC & PLAY - Comedyprogramm
DESCRIPTION:Wir haben die 80er erlebt und können uns daran erinnern \nDie 80er – ein Jahrzehnt\, das uns unvergessliche Musik\, knallbunte Mode \nDie 80er – ein Jahrzehnt\, das uns unvergessliche Musik\, knallbunte Mode und Frisuren beschert hat\, die an Architekturprojekte erinnern. \nUnd mittendrin die unvergessliche Stimme von Udo Huber\, dem Mr. Hitparade höchstpersönlich. \nWährend er die Nation mit den neuesten Chart-Hits versorgte\, saß irgendwo in einem Kinderzimmer ein junger Markus Hauptmann\, bewaffnet mit einem Stereokassettenrecorder und dem Traum\, das perfekte Mixtape zu erstellen – bis Huber mal wieder mitten in den Refrain reingequatscht hat. \n40 Jahre später hat das Schicksal zugeschlagen: Mr. Hitparade und der Mixtape-Gepeinigte schließen Frieden – und sich zusammen! Gemeinsam bringen sie in ihrem Comedyprogramm die knallbunten 80er zurück auf die Bühne. Mit im Gepäck: jede Menge Erinnerungen\, absurde Geschichten und die Frage\, wie man damals ohne Handy und Streaming-Dienste überhaupt überlebt hat. Und wer hat eigentlich J.R. erschossen?
URL:https://udohuber.at/event/rec-play-comedyprogramm-19/
LOCATION:Kulturpavillon Brandlhof Radlbrunn\, Radlbrunn 24\, Radlbrunn\, Niederösterreich\, 3710\, Austria
CATEGORIES:Comedy
ATTACH;FMTTYPE=image/jpeg:https://udohuber.at/wp-content/uploads/2025/09/udohuber_frueherwarallesbesser_02.jpg
ORGANIZER;CN="Kulturpavillon Brandlhof Radlbrunn":MAILTO:office@volkskulturnoe.at
END:VEVENT
END:VCALENDAR